Package: QDNAseq Version: 1.45.0 Command: /Library/Frameworks/R.framework/Resources/bin/R CMD build --keep-empty-dirs --no-resave-data QDNAseq StartedAt: 2025-07-01 18:10:48 -0400 (Tue, 01 Jul 2025) EndedAt: 2025-07-01 18:11:42 -0400 (Tue, 01 Jul 2025) EllapsedTime: 53.6 seconds RetCode: 0 Status: OK PackageFile: QDNAseq_1.45.0.tar.gz PackageFileSize: 991.1 KiB