Package: QDNAseq Version: 1.45.0 Command: rm -rf QDNAseq.buildbin-libdir && mkdir QDNAseq.buildbin-libdir && /Users/biocbuild/BBS/utils/build-universal.sh QDNAseq_1.45.0.tar.gz /Library/Frameworks/R.framework/Resources/bin/R QDNAseq.buildbin-libdir StartedAt: 2025-07-02 01:13:21 -0400 (Wed, 02 Jul 2025) EndedAt: 2025-07-02 01:13:49 -0400 (Wed, 02 Jul 2025) EllapsedTime: 28.8 seconds RetCode: 0 Status: OK PackageFile: QDNAseq_1.45.0.tgz PackageFileSize: 1.532 MiB