Package: PureCN Version: 2.15.3 Command: /home/biocbuild/R/R/bin/R CMD INSTALL PureCN StartedAt: 2025-07-14 21:05:18 -0000 (Mon, 14 Jul 2025) EndedAt: 2025-07-14 21:06:24 -0000 (Mon, 14 Jul 2025) EllapsedTime: 65.8 seconds RetCode: 0 Status: OK