Package: PureCN Version: 2.15.3 Command: /home/biocbuild/R/R/bin/R CMD build --keep-empty-dirs --no-resave-data PureCN StartedAt: 2025-07-15 01:58:57 -0000 (Tue, 15 Jul 2025) EndedAt: 2025-07-15 02:05:22 -0000 (Tue, 15 Jul 2025) EllapsedTime: 385.2 seconds RetCode: 0 Status: OK PackageFile: PureCN_2.15.3.tar.gz PackageFileSize: 5.773 MiB