Package: PureCN Version: 2.15.3 Command: F:\biocbuild\bbs-3.22-bioc\R\bin\R.exe CMD check --no-multiarch --install=check:PureCN.install-out.txt --library=F:\biocbuild\bbs-3.22-bioc\R\library --no-vignettes --timings PureCN_2.15.3.tar.gz StartedAt: 2025-07-22 05:33:16 -0400 (Tue, 22 Jul 2025) EndedAt: 2025-07-22 05:55:27 -0400 (Tue, 22 Jul 2025) EllapsedTime: 1331.1 seconds RetCode: 1 Status: ERROR CheckDir: PureCN.Rcheck Warnings: NA