Package: PureCN Version: 2.15.3 Command: /home/biocbuild/bbs-3.22-bioc/R/bin/R CMD INSTALL PureCN StartedAt: 2025-07-15 15:41:48 -0400 (Tue, 15 Jul 2025) EndedAt: 2025-07-15 15:42:39 -0400 (Tue, 15 Jul 2025) EllapsedTime: 50.6 seconds RetCode: 0 Status: OK