Package: PureCN Version: 2.15.3 Command: /Library/Frameworks/R.framework/Resources/bin/R CMD INSTALL PureCN StartedAt: 2025-07-22 15:37:23 -0400 (Tue, 22 Jul 2025) EndedAt: 2025-07-22 15:38:30 -0400 (Tue, 22 Jul 2025) EllapsedTime: 66.4 seconds RetCode: 0 Status: OK