Package: PureCN Version: 2.15.3 Command: /Library/Frameworks/R.framework/Resources/bin/R CMD check --install=check:PureCN.install-out.txt --library=/Library/Frameworks/R.framework/Resources/library --no-vignettes --timings PureCN_2.15.3.tar.gz StartedAt: 2025-07-22 22:57:58 -0400 (Tue, 22 Jul 2025) EndedAt: 2025-07-22 23:16:14 -0400 (Tue, 22 Jul 2025) EllapsedTime: 1095.7 seconds RetCode: 1 Status: ERROR CheckDir: PureCN.Rcheck Warnings: NA