Package: PureCN Version: 2.15.3 Command: /Library/Frameworks/R.framework/Resources/bin/R CMD build --keep-empty-dirs --no-resave-data PureCN StartedAt: 2025-07-22 18:02:26 -0400 (Tue, 22 Jul 2025) EndedAt: 2025-07-22 18:07:18 -0400 (Tue, 22 Jul 2025) EllapsedTime: 291.7 seconds RetCode: 0 Status: OK PackageFile: PureCN_2.15.3.tar.gz PackageFileSize: 5.719 MiB