Package: PureCN Version: 2.15.3 Command: rm -rf PureCN.buildbin-libdir && mkdir PureCN.buildbin-libdir && /Users/biocbuild/BBS/utils/build-universal.sh PureCN_2.15.3.tar.gz /Library/Frameworks/R.framework/Resources/bin/R PureCN.buildbin-libdir StartedAt: 2025-07-23 01:22:41 -0400 (Wed, 23 Jul 2025) EndedAt: 2025-07-23 01:23:56 -0400 (Wed, 23 Jul 2025) EllapsedTime: 75.0 seconds RetCode: 0 Status: OK PackageFile: PureCN_2.15.3.tgz PackageFileSize: 6.182 MiB