Package: PureCN Version: 2.15.3 Command: /Library/Frameworks/R.framework/Resources/bin/R CMD INSTALL PureCN StartedAt: 2025-07-01 15:22:06 -0400 (Tue, 01 Jul 2025) EndedAt: 2025-07-01 15:22:26 -0400 (Tue, 01 Jul 2025) EllapsedTime: 20.0 seconds RetCode: 0 Status: OK