Package: PureCN Version: 2.15.3 Command: /Library/Frameworks/R.framework/Resources/bin/R CMD build --keep-empty-dirs --no-resave-data PureCN StartedAt: 2025-07-01 17:15:41 -0400 (Tue, 01 Jul 2025) EndedAt: 2025-07-01 17:17:16 -0400 (Tue, 01 Jul 2025) EllapsedTime: 95.2 seconds RetCode: 0 Status: OK PackageFile: PureCN_2.15.3.tar.gz PackageFileSize: 5.723 MiB