Package: ProteoMM Version: 1.27.0 Command: /home/biocbuild/R/R/bin/R CMD build --keep-empty-dirs --no-resave-data ProteoMM StartedAt: 2025-07-15 01:57:46 -0000 (Tue, 15 Jul 2025) EndedAt: 2025-07-15 01:58:38 -0000 (Tue, 15 Jul 2025) EllapsedTime: 52.0 seconds RetCode: 0 Status: OK PackageFile: ProteoMM_1.27.0.tar.gz PackageFileSize: 267.7 KiB