Package: ProteoMM Version: 1.27.0 Command: chmod a+r ProteoMM -R && F:\biocbuild\bbs-3.22-bioc\R\bin\R.exe CMD build --keep-empty-dirs --no-resave-data ProteoMM StartedAt: 2025-07-20 21:18:53 -0400 (Sun, 20 Jul 2025) EndedAt: 2025-07-20 21:19:45 -0400 (Sun, 20 Jul 2025) EllapsedTime: 51.3 seconds RetCode: 0 Status: OK PackageFile: ProteoMM_1.27.0.tar.gz PackageFileSize: 214.6 KiB