Package: ProteoMM Version: 1.27.0 Command: rm -rf ProteoMM.buildbin-libdir && mkdir ProteoMM.buildbin-libdir && F:\biocbuild\bbs-3.22-bioc\R\bin\R.exe CMD INSTALL --build --library=ProteoMM.buildbin-libdir ProteoMM_1.27.0.tar.gz StartedAt: 2025-07-21 09:45:26 -0400 (Mon, 21 Jul 2025) EndedAt: 2025-07-21 09:45:52 -0400 (Mon, 21 Jul 2025) EllapsedTime: 26.0 seconds RetCode: 0 Status: OK PackageFile: ProteoMM_1.27.0.zip PackageFileSize: 332.7 KiB