Package: ProteoMM Version: 1.27.0 Command: /home/biocbuild/bbs-3.22-bioc/R/bin/R CMD build --keep-empty-dirs --no-resave-data --md5 ProteoMM StartedAt: 2025-07-04 18:36:29 -0400 (Fri, 04 Jul 2025) EndedAt: 2025-07-04 18:37:02 -0400 (Fri, 04 Jul 2025) EllapsedTime: 33.0 seconds RetCode: 0 Status: OK PackageFile: ProteoMM_1.27.0.tar.gz PackageFileSize: 476.2 KiB