Package: ProteoMM Version: 1.27.0 Command: /Library/Frameworks/R.framework/Resources/bin/R CMD build --keep-empty-dirs --no-resave-data ProteoMM StartedAt: 2025-07-11 17:15:30 -0400 (Fri, 11 Jul 2025) EndedAt: 2025-07-11 17:15:43 -0400 (Fri, 11 Jul 2025) EllapsedTime: 13.2 seconds RetCode: 0 Status: OK PackageFile: ProteoMM_1.27.0.tar.gz PackageFileSize: 516.6 KiB