Package: ProteoDisco Version: 1.15.0 Command: chmod a+r ProteoDisco -R && F:\biocbuild\bbs-3.22-bioc\R\bin\R.exe CMD build --keep-empty-dirs --no-resave-data ProteoDisco StartedAt: 2025-07-20 21:18:50 -0400 (Sun, 20 Jul 2025) EndedAt: 2025-07-20 21:21:04 -0400 (Sun, 20 Jul 2025) EllapsedTime: 134.1 seconds RetCode: 1 Status: ERROR PackageFile: None PackageFileSize: NA