Package: ProteoDisco Version: 1.15.0 Command: rm -rf ProteoDisco.buildbin-libdir && mkdir ProteoDisco.buildbin-libdir && F:\biocbuild\bbs-3.22-bioc\R\bin\R.exe CMD INSTALL --build --library=ProteoDisco.buildbin-libdir ProteoDisco_1.15.0.tar.gz StartedAt: 2025-06-23 08:53:12 -0400 (Mon, 23 Jun 2025) EndedAt: 2025-06-23 08:54:41 -0400 (Mon, 23 Jun 2025) EllapsedTime: 89.0 seconds RetCode: 0 Status: OK PackageFile: ProteoDisco_1.15.0.zip PackageFileSize: 885.9 KiB