Package: ProteoDisco Version: 1.15.0 Command: /Library/Frameworks/R.framework/Resources/bin/R CMD INSTALL ProteoDisco StartedAt: 2025-06-29 15:36:42 -0400 (Sun, 29 Jun 2025) EndedAt: 2025-06-29 15:37:50 -0400 (Sun, 29 Jun 2025) EllapsedTime: 68.0 seconds RetCode: 0 Status: OK