Package: ProteoDisco Version: 1.15.0 Command: /Library/Frameworks/R.framework/Resources/bin/R CMD check --install=check:ProteoDisco.install-out.txt --library=/Library/Frameworks/R.framework/Resources/library --no-vignettes --timings ProteoDisco_1.15.0.tar.gz StartedAt: 2025-06-22 22:19:13 -0400 (Sun, 22 Jun 2025) EndedAt: 2025-06-22 22:28:01 -0400 (Sun, 22 Jun 2025) EllapsedTime: 528.6 seconds RetCode: 0 Status: WARNINGS CheckDir: ProteoDisco.Rcheck Warnings: 2