Package: ProteoDisco Version: 1.15.0 Command: /Library/Frameworks/R.framework/Resources/bin/R CMD INSTALL ProteoDisco StartedAt: 2025-07-01 15:22:10 -0400 (Tue, 01 Jul 2025) EndedAt: 2025-07-01 15:22:31 -0400 (Tue, 01 Jul 2025) EllapsedTime: 21.1 seconds RetCode: 0 Status: OK