Package: ProteoDisco Version: 1.15.0 Command: /Library/Frameworks/R.framework/Resources/bin/R CMD build --keep-empty-dirs --no-resave-data ProteoDisco StartedAt: 2025-07-01 17:15:11 -0400 (Tue, 01 Jul 2025) EndedAt: 2025-07-01 17:15:52 -0400 (Tue, 01 Jul 2025) EllapsedTime: 41.5 seconds RetCode: 1 Status: ERROR PackageFile: None PackageFileSize: NA