Package: ProteoDisco Version: 1.15.0 Command: rm -rf ProteoDisco.buildbin-libdir && mkdir ProteoDisco.buildbin-libdir && /Users/biocbuild/BBS/utils/build-universal.sh ProteoDisco_1.15.0.tar.gz /Library/Frameworks/R.framework/Resources/bin/R ProteoDisco.buildbin-libdir StartedAt: 2025-06-22 22:08:05 -0400 (Sun, 22 Jun 2025) EndedAt: 2025-06-22 22:08:27 -0400 (Sun, 22 Jun 2025) EllapsedTime: 22.5 seconds RetCode: 0 Status: OK PackageFile: ProteoDisco_1.15.0.tgz PackageFileSize: 904.9 KiB