Package: ProtGenerics Version: 1.41.0 Command: /Library/Frameworks/R.framework/Resources/bin/R CMD INSTALL ProtGenerics StartedAt: 2025-06-26 15:04:23 -0400 (Thu, 26 Jun 2025) EndedAt: 2025-06-26 15:05:02 -0400 (Thu, 26 Jun 2025) EllapsedTime: 38.3 seconds RetCode: 0 Status: OK