Package: PrInCE Version: 1.25.0 Command: F:\biocbuild\bbs-3.22-bioc\R\bin\R.exe CMD INSTALL PrInCE StartedAt: 2025-07-20 16:31:08 -0400 (Sun, 20 Jul 2025) EndedAt: 2025-07-20 16:32:18 -0400 (Sun, 20 Jul 2025) EllapsedTime: 69.9 seconds RetCode: 0 Status: OK