Package: PrInCE Version: 1.25.0 Command: F:\biocbuild\bbs-3.22-bioc\R\bin\R.exe CMD check --no-multiarch --install=check:PrInCE.install-out.txt --library=F:\biocbuild\bbs-3.22-bioc\R\library --no-vignettes --timings PrInCE_1.25.0.tar.gz StartedAt: 2025-07-21 05:21:53 -0400 (Mon, 21 Jul 2025) EndedAt: 2025-07-21 05:28:14 -0400 (Mon, 21 Jul 2025) EllapsedTime: 381.4 seconds RetCode: 0 Status: WARNINGS CheckDir: PrInCE.Rcheck Warnings: 1