Package: PrInCE Version: 1.25.0 Command: chmod a+r PrInCE -R && F:\biocbuild\bbs-3.22-bioc\R\bin\R.exe CMD build --keep-empty-dirs --no-resave-data PrInCE StartedAt: 2025-07-20 21:16:39 -0400 (Sun, 20 Jul 2025) EndedAt: 2025-07-20 21:20:15 -0400 (Sun, 20 Jul 2025) EllapsedTime: 215.7 seconds RetCode: 0 Status: OK PackageFile: PrInCE_1.25.0.tar.gz PackageFileSize: 1.799 MiB