Package: PrInCE Version: 1.25.0 Command: rm -rf PrInCE.buildbin-libdir && mkdir PrInCE.buildbin-libdir && F:\biocbuild\bbs-3.22-bioc\R\bin\R.exe CMD INSTALL --build --library=PrInCE.buildbin-libdir PrInCE_1.25.0.tar.gz StartedAt: 2025-07-21 09:44:27 -0400 (Mon, 21 Jul 2025) EndedAt: 2025-07-21 09:45:31 -0400 (Mon, 21 Jul 2025) EllapsedTime: 64.0 seconds RetCode: 0 Status: OK PackageFile: PrInCE_1.25.0.zip PackageFileSize: 1.672 MiB