Package: PrInCE Version: 1.25.0 Command: /Library/Frameworks/R.framework/Resources/bin/R CMD INSTALL PrInCE StartedAt: 2025-07-04 15:37:56 -0400 (Fri, 04 Jul 2025) EndedAt: 2025-07-04 15:39:12 -0400 (Fri, 04 Jul 2025) EllapsedTime: 75.2 seconds RetCode: 0 Status: OK