Package: PrInCE Version: 1.25.0 Command: /Library/Frameworks/R.framework/Resources/bin/R CMD build --keep-empty-dirs --no-resave-data PrInCE StartedAt: 2025-07-04 17:55:40 -0400 (Fri, 04 Jul 2025) EndedAt: 2025-07-04 17:58:24 -0400 (Fri, 04 Jul 2025) EllapsedTime: 164.7 seconds RetCode: 0 Status: OK PackageFile: PrInCE_1.25.0.tar.gz PackageFileSize: 1.818 MiB