Package: PrInCE Version: 1.25.0 Command: rm -rf PrInCE.buildbin-libdir && mkdir PrInCE.buildbin-libdir && /Users/biocbuild/BBS/utils/build-universal.sh PrInCE_1.25.0.tar.gz /Library/Frameworks/R.framework/Resources/bin/R PrInCE.buildbin-libdir StartedAt: 2025-07-05 01:01:03 -0400 (Sat, 05 Jul 2025) EndedAt: 2025-07-05 01:02:02 -0400 (Sat, 05 Jul 2025) EllapsedTime: 58.7 seconds RetCode: 0 Status: OK PackageFile: PrInCE_1.25.0.tgz PackageFileSize: 1.685 MiB