Package: PrInCE Version: 1.25.0 Command: /Library/Frameworks/R.framework/Resources/bin/R CMD build --keep-empty-dirs --no-resave-data PrInCE StartedAt: 2025-07-07 17:13:01 -0400 (Mon, 07 Jul 2025) EndedAt: 2025-07-07 17:14:08 -0400 (Mon, 07 Jul 2025) EllapsedTime: 66.8 seconds RetCode: 0 Status: OK PackageFile: PrInCE_1.25.0.tar.gz PackageFileSize: 1.818 MiB