Package: Polytect Version: 1.1.0 Command: F:\biocbuild\bbs-3.22-bioc\R\bin\R.exe CMD INSTALL Polytect StartedAt: 2025-07-22 16:34:59 -0400 (Tue, 22 Jul 2025) EndedAt: 2025-07-22 16:35:24 -0400 (Tue, 22 Jul 2025) EllapsedTime: 25.1 seconds RetCode: 0 Status: OK