Package: Polytect Version: 1.1.0 Command: F:\biocbuild\bbs-3.22-bioc\R\bin\R.exe CMD check --no-multiarch --install=check:Polytect.install-out.txt --library=F:\biocbuild\bbs-3.22-bioc\R\library --no-vignettes --timings Polytect_1.1.0.tar.gz StartedAt: 2025-07-23 05:22:57 -0400 (Wed, 23 Jul 2025) EndedAt: 2025-07-23 05:25:16 -0400 (Wed, 23 Jul 2025) EllapsedTime: 139.4 seconds RetCode: 0 Status: OK CheckDir: Polytect.Rcheck Warnings: 0