Package: Polytect Version: 1.1.0 Command: chmod a+r Polytect -R && F:\biocbuild\bbs-3.22-bioc\R\bin\R.exe CMD build --keep-empty-dirs --no-resave-data Polytect StartedAt: 2025-07-22 21:17:35 -0400 (Tue, 22 Jul 2025) EndedAt: 2025-07-22 21:21:41 -0400 (Tue, 22 Jul 2025) EllapsedTime: 246.5 seconds RetCode: 0 Status: OK PackageFile: Polytect_1.1.0.tar.gz PackageFileSize: 1.99 MiB