############################################################################## ############################################################################## ### ### Running command: ### ### rm -rf Polytect.buildbin-libdir && mkdir Polytect.buildbin-libdir && F:\biocbuild\bbs-3.22-bioc\R\bin\R.exe CMD INSTALL --build --library=Polytect.buildbin-libdir Polytect_1.1.0.tar.gz ### ############################################################################## ############################################################################## * installing *source* package 'Polytect' ... ** this is package 'Polytect' version '1.1.0' ** using staged installation ** R ** data ** inst ** byte-compile and prepare package for lazy loading ** help *** installing help indices ** building package indices ** installing vignettes ** testing if installed package can be loaded from temporary location ** testing if installed package can be loaded from final location ** testing if installed package keeps a record of temporary installation path * MD5 sums packaged installation of 'Polytect' as Polytect_1.1.0.zip * DONE (Polytect)