Package: PoDCall Version: 1.17.1 Command: chmod a+r PoDCall -R && F:\biocbuild\bbs-3.22-bioc\R\bin\R.exe CMD build --keep-empty-dirs --no-resave-data PoDCall StartedAt: 2025-07-24 21:27:52 -0400 (Thu, 24 Jul 2025) EndedAt: 2025-07-24 21:31:08 -0400 (Thu, 24 Jul 2025) EllapsedTime: 196.5 seconds RetCode: 0 Status: OK PackageFile: PoDCall_1.17.1.tar.gz PackageFileSize: 2.013 MiB