Package: PoDCall Version: 1.17.1 Command: /Library/Frameworks/R.framework/Resources/bin/R CMD build --keep-empty-dirs --no-resave-data PoDCall StartedAt: 2025-10-05 18:28:24 -0400 (Sun, 05 Oct 2025) EndedAt: 2025-10-05 18:28:49 -0400 (Sun, 05 Oct 2025) EllapsedTime: 25.2 seconds RetCode: 0 Status: OK PackageFile: PoDCall_1.17.1.tar.gz PackageFileSize: 3.05 MiB