Package: PoDCall Version: 1.17.1 Command: rm -rf PoDCall.buildbin-libdir && mkdir PoDCall.buildbin-libdir && /Users/biocbuild/BBS/utils/build-universal.sh PoDCall_1.17.1.tar.gz /Library/Frameworks/R.framework/Resources/bin/R PoDCall.buildbin-libdir StartedAt: 2025-10-06 02:16:53 -0400 (Mon, 06 Oct 2025) EndedAt: 2025-10-06 02:17:04 -0400 (Mon, 06 Oct 2025) EllapsedTime: 10.3 seconds RetCode: 0 Status: OK PackageFile: PoDCall_1.17.1.tgz PackageFileSize: 2.195 MiB