Package: PoDCall Version: 1.17.1 Command: /Library/Frameworks/R.framework/Resources/bin/R CMD check --install=check:PoDCall.install-out.txt --library=/Library/Frameworks/R.framework/Resources/library --no-vignettes --timings PoDCall_1.17.1.tar.gz StartedAt: 2025-07-13 20:43:16 -0400 (Sun, 13 Jul 2025) EndedAt: 2025-07-13 20:46:30 -0400 (Sun, 13 Jul 2025) EllapsedTime: 194.3 seconds RetCode: 0 Status: OK CheckDir: PoDCall.Rcheck Warnings: 0