Package: PoDCall Version: 1.17.1 Command: rm -rf PoDCall.buildbin-libdir && mkdir PoDCall.buildbin-libdir && /Users/biocbuild/BBS/utils/build-universal.sh PoDCall_1.17.1.tar.gz /Library/Frameworks/R.framework/Resources/bin/R PoDCall.buildbin-libdir StartedAt: 2025-07-11 22:30:27 -0400 (Fri, 11 Jul 2025) EndedAt: 2025-07-11 22:30:30 -0400 (Fri, 11 Jul 2025) EllapsedTime: 3.1 seconds RetCode: 0 Status: OK PackageFile: PoDCall_1.17.1.tgz PackageFileSize: 2.194 MiB