Package: Pirat Version: 1.3.6 Command: /home/biocbuild/R/R/bin/R CMD INSTALL Pirat StartedAt: 2025-10-23 20:41:05 -0000 (Thu, 23 Oct 2025) EndedAt: 2025-10-23 20:41:29 -0000 (Thu, 23 Oct 2025) EllapsedTime: 23.9 seconds RetCode: 0 Status: OK