Package: Pirat Version: 1.3.6 Command: /home/biocbuild/R/R/bin/R CMD build --keep-empty-dirs --no-resave-data Pirat StartedAt: 2025-10-21 02:04:30 -0000 (Tue, 21 Oct 2025) EndedAt: 2025-10-21 02:05:15 -0000 (Tue, 21 Oct 2025) EllapsedTime: 45.0 seconds RetCode: 1 Status: ERROR PackageFile: None PackageFileSize: NA