Package: Pirat Version: 1.3.2 Command: F:\biocbuild\bbs-3.22-bioc\R\bin\R.exe CMD INSTALL Pirat StartedAt: 2025-07-24 16:10:53 -0400 (Thu, 24 Jul 2025) EndedAt: 2025-07-24 16:11:25 -0400 (Thu, 24 Jul 2025) EllapsedTime: 31.6 seconds RetCode: 0 Status: OK