Package: Pigengene Version: 1.35.0 Command: /home/biocbuild/R/R/bin/R CMD build --keep-empty-dirs --no-resave-data Pigengene StartedAt: 2025-07-15 01:50:01 -0000 (Tue, 15 Jul 2025) EndedAt: 2025-07-15 01:55:04 -0000 (Tue, 15 Jul 2025) EllapsedTime: 302.2 seconds RetCode: 0 Status: OK PackageFile: Pigengene_1.35.0.tar.gz PackageFileSize: 2.686 MiB