Package: Pigengene Version: 1.35.0 Command: /Library/Frameworks/R.framework/Resources/bin/R CMD check --install=check:Pigengene.install-out.txt --library=/Library/Frameworks/R.framework/Resources/library --no-vignettes --timings Pigengene_1.35.0.tar.gz StartedAt: 2025-07-04 20:42:08 -0400 (Fri, 04 Jul 2025) EndedAt: 2025-07-04 20:46:22 -0400 (Fri, 04 Jul 2025) EllapsedTime: 254.0 seconds RetCode: 0 Status: OK CheckDir: Pigengene.Rcheck Warnings: 0