Package: PhyloProfile Version: 2.1.8 Command: chmod a+r PhyloProfile -R && F:\biocbuild\bbs-3.22-bioc\R\bin\R.exe CMD build --keep-empty-dirs --no-resave-data PhyloProfile StartedAt: 2025-07-24 21:24:05 -0400 (Thu, 24 Jul 2025) EndedAt: 2025-07-24 21:25:22 -0400 (Thu, 24 Jul 2025) EllapsedTime: 77.5 seconds RetCode: 0 Status: OK PackageFile: PhyloProfile_2.1.8.tar.gz PackageFileSize: 1.197 MiB