Package: PhosR Version: 1.19.2 Command: /home/biocbuild/R/R/bin/R CMD check --install=check:PhosR.install-out.txt --library=/home/biocbuild/R/R/site-library --no-vignettes --timings PhosR_1.19.2.tar.gz StartedAt: 2025-10-03 10:11:37 -0000 (Fri, 03 Oct 2025) EndedAt: 2025-10-03 10:19:32 -0000 (Fri, 03 Oct 2025) EllapsedTime: 475.5 seconds RetCode: 0 Status: OK CheckDir: PhosR.Rcheck Warnings: 0