Package: PhenoGeneRanker Version: 1.17.0 Command: /home/biocbuild/R/R/bin/R CMD INSTALL PhenoGeneRanker StartedAt: 2025-07-24 21:07:56 -0000 (Thu, 24 Jul 2025) EndedAt: 2025-07-24 21:08:18 -0000 (Thu, 24 Jul 2025) EllapsedTime: 22.2 seconds RetCode: 0 Status: OK